BEGIN:VCALENDAR
VERSION:2.0
PRODID:-//The People Speak - ECPv4.6.11//NONSGML v1.0//EN
CALSCALE:GREGORIAN
METHOD:PUBLISH
X-WR-CALNAME:The People Speak
X-ORIGINAL-URL:https://thepeoplespeak.org.uk
X-WR-CALDESC:Events for The People Speak
BEGIN:VEVENT
DTSTART;TZID=UTC+0:20250831T140000
DTEND;TZID=UTC+0:20250831T160000
DTSTAMP:20260419T155323
CREATED:20250729T124837Z
LAST-MODIFIED:20250729T132853Z
UID:7731-1756648800-1756656000@thepeoplespeak.org.uk
SUMMARY:Barbican and Golden Lane Summer Party Talkaoke
DESCRIPTION:Talkaoke is coming back to join the Barbican and Golden Lane Neighbourhood Forum for their community Summer Party! \nBarbican and Golden Lane Neighbourhood Forum brings together residents\, community representatives and businesses working in partnership to make our neighbourhood an even better place to live\, work and play. Key to this is creating a Neighbourhood Plan to enhance the unique character and heritage of our area. Over time\, the Forum will also be able to offer ideas and plans for community infrastructure projects to get funding from the City’s Neighbourhood Community Infrastructure Levy (CIL) funds. \nTalkaoke is a pop up talk show\, where everyone is welcome. Just grab the mic and air your views! Join us for a creative conversation\, hear the latest ideas people are talking about and make new friends! \n  \nPhoto by Javier Madinabeitia\, 2024 \n  \n
URL:https://thepeoplespeak.org.uk/event/barbican-and-golden-lane-summer-party-talkaoke/
CATEGORIES:Talkaoke
ATTACH;FMTTYPE=image/jpeg:https://thepeoplespeak.org.uk/wp-content/uploads/2025/07/54138426974_b352d957a0_k.jpg
END:VEVENT
END:VCALENDAR