BEGIN:VCALENDAR
VERSION:2.0
PRODID:-//The People Speak - ECPv4.6.11//NONSGML v1.0//EN
CALSCALE:GREGORIAN
METHOD:PUBLISH
X-WR-CALNAME:The People Speak
X-ORIGINAL-URL:https://thepeoplespeak.org.uk
X-WR-CALDESC:Events for The People Speak
BEGIN:VEVENT
DTSTART;TZID=UTC+0:20230821T150000
DTEND;TZID=UTC+0:20230821T190000
DTSTAMP:20260419T142428
CREATED:20230801T205442Z
LAST-MODIFIED:20230803T114150Z
UID:6791-1692630000-1692644400@thepeoplespeak.org.uk
SUMMARY:In The Neighbourhood: Talkaoke & Podcast Hosting Workshop
DESCRIPTION:We’re so pleased to announce that we will be part of All Points East’s In The NBHD in Victoria Park this summer! An incredible four-day programme of the biggest and best activities and entertainment in London\, all of which you can enjoy for FREE! Come down and check it out  \nWelcome to Talkaoke – a live free-form talk show where you\, the participants\, decide on the direction of the conversation. If you have things to say\, would like to hear the latest ideas and opinions\, learn some podcast hosting skills – this is a session for you! \nTalkaoke is a live\, television-style talk show by The People Speak art collective from East London. For 26 years Talkaoke has been popping up at festivals\, clubs\, galleries\, and street corners\, giving people a platform to speak\, listen and be heard. Talkaoke is also a unique way to hear the latest ideas people are talking about and to discover new ones together. For us\, the conversation is a creative medium and a journey from one unexpected subject to another. It can be topical\, funny\, deep\, surreal\, or something else. The format is simple: the host sits in the middle of an illuminated round table\, and you sit around the outside and talk about whatever comes up. Just grab the microphone and air your views. We have been using our free-form style of Talkaoke to create podcasts and encourage others to make their own. In this special In The Neighbourhood Talkaoke session we will give you the tools and space to explore your podcast idea and unique hosting style! \n  \n
URL:https://thepeoplespeak.org.uk/event/announcement-coming-soon-talkaoke-podcast-hosting-workshop/
CATEGORIES:Talkaoke
ATTACH;FMTTYPE=image/jpeg:https://thepeoplespeak.org.uk/wp-content/uploads/2023/08/53036917560_c46851ea79_k.jpg
END:VEVENT
END:VCALENDAR