BEGIN:VCALENDAR
VERSION:2.0
PRODID:-//The People Speak - ECPv4.6.11//NONSGML v1.0//EN
CALSCALE:GREGORIAN
METHOD:PUBLISH
X-WR-CALNAME:The People Speak
X-ORIGINAL-URL:https://thepeoplespeak.org.uk
X-WR-CALDESC:Events for The People Speak
BEGIN:VEVENT
DTSTART;TZID=UTC+0:20250515T150000
DTEND;TZID=UTC+0:20250515T170000
DTSTAMP:20260420T083346
CREATED:20250501T133701Z
LAST-MODIFIED:20250501T205105Z
UID:7544-1747321200-1747328400@thepeoplespeak.org.uk
SUMMARY:Aberfeldy Stories Talkaoke x MIND
DESCRIPTION:We are shining a light on people’s stories in our Poplar neighbourhood and beyond\, through workshops in creative writing\, music making\, podcasting\, comedy\, performance\, radio and storytelling. \nJoin our special Aberfeldy Stories Talkaoke pop up talk show in collaboration with MIND Tower Hamlets. Everybody is welcome to join the table of chat and contribute their persepctives! \nAberfeldy Stories is a project using our emergent approach\, where we are inviting you to co-design the programme with us. We want to know about your interests\, skills you’d like to develop\, stories you’d like to tell and ways in which to tell them. Together we will work on creating a film\, a podcast series\, a book\, a music video\, a collection of short stories\, a radio broadcast\, an anthem\, a comedy night\, a theatre performance\, a guided tour… Everything is possible! \nPhoto by Brian Whar\n\n\n\n
URL:https://thepeoplespeak.org.uk/event/aberfeldy-stories-talkaoke-x-mind/
ATTACH;FMTTYPE=image/jpeg:https://thepeoplespeak.org.uk/wp-content/uploads/2025/05/54421759668_0983676255_k.jpg
END:VEVENT
END:VCALENDAR