BEGIN:VCALENDAR
VERSION:2.0
PRODID:-//The People Speak - ECPv4.6.11//NONSGML v1.0//EN
CALSCALE:GREGORIAN
METHOD:PUBLISH
X-WR-CALNAME:The People Speak
X-ORIGINAL-URL:https://thepeoplespeak.org.uk
X-WR-CALDESC:Events for The People Speak
BEGIN:VEVENT
DTSTART;TZID=UTC+0:20200827T190000
DTEND;TZID=UTC+0:20200827T213000
DTSTAMP:20260419T213606
CREATED:20200814T173034Z
LAST-MODIFIED:20200828T164818Z
UID:5002-1598554800-1598563800@thepeoplespeak.org.uk
SUMMARY:Aberfeldy Live! Talkaoke #4
DESCRIPTION:Welcome to Part 4 of Aberfeldy Live! Talkaoke – a live talk show popping up on Aberfeldy Street in Poplar and online every last Thursday of the month. \nWe invited our Poplar neighbours and friends from further afield to sit around our doughnut shaped table of chat and suggest subjects of conversation. From super local to hyper global – there is no limit on where the conversation can go. \n\n \n______________\n\nAberfeldy Live! Talkaoke is supported by Foundation For Future London’s Connecting People & Places Fund.  \n\nFoundation for Future London is an independent charity created to connect communities\, the new East Bank and its globally renowned arts\, innovation and cultural partners to ensure East Bank is London’s must-visit destination and becomes a resilient\, thriving\, world-class neighbourhood of local and global significance. \nRead more here.\n\n\n			\n			\n			\n				\n				\n				‹\n				›\n				×\n				\n				\n				\n					\n						\n							\n								×\n								\n							\n							\n							\n								\n									\n									Previous								\n								\n									Next									\n								\n							\n						\n					\n				\n			\n			\n			jQuery(function() {\n				// Set blueimp gallery options\n				jQuery.extend(blueimp.Gallery.prototype.options\, {\n					useBootstrapModal: false\,\n					hidePageScrollbars: false\n				});\n			});\n			\n			\n  \n
URL:https://thepeoplespeak.org.uk/event/aberfeldy-live-talkaoke-4/
LOCATION:27 Aberfeldy Street\, London\, E14 0NU\, United Kingdom
CATEGORIES:Past Events,Talkaoke
ATTACH;FMTTYPE=image/jpeg:https://thepeoplespeak.org.uk/wp-content/uploads/2020/08/Aberfeldy4.jpg
END:VEVENT
END:VCALENDAR