BEGIN:VCALENDAR
VERSION:2.0
PRODID:-//The People Speak - ECPv4.6.11//NONSGML v1.0//EN
CALSCALE:GREGORIAN
METHOD:PUBLISH
X-WR-CALNAME:The People Speak
X-ORIGINAL-URL:https://thepeoplespeak.org.uk
X-WR-CALDESC:Events for The People Speak
BEGIN:VEVENT
DTSTART;TZID=UTC+0:20240327T180000
DTEND;TZID=UTC+0:20240327T200000
DTSTAMP:20260419T184028
CREATED:20240122T150057Z
LAST-MODIFIED:20240218T190340Z
UID:7011-1711562400-1711569600@thepeoplespeak.org.uk
SUMMARY:Women's Month Special x Talkaoke
DESCRIPTION:In March we are focusing on women in collaboration with Alternative Arts annual Women’s History Month in East London. Join us for Talkaoke – an interactive talk-show\, where you decide on the subjects. Just grab the mic and have your say! \nHow does Talkaoke work? \nTalkaoke is an interactive talk-show\, where the participants decide on the subjects. Each discussion is a journey from one unexpected subject to another: it can be topical\, funny\, deep\, surreal\, and everything in between. The format is simple: the Talkaoke host sits in the middle of a doughnut-shaped table and passes the mic around\, inviting contributions and comments from each participant. Talkaoke host stimulates the collective imagination of the participants by expertly linking themes and opposing points of the conversation. Even though the session will have a central question and theme\, we invite participants to be tangential and move towards related subjects. This way we create layers and frames of reference within the conversation\, which helps break down the complexity of the central question and return to it later from new perspectives. \n  \n  \n  \n
URL:https://thepeoplespeak.org.uk/event/7011/
LOCATION:27 Aberfeldy Street\, London\, E14 0NU\, United Kingdom
ATTACH;FMTTYPE=image/jpeg:https://thepeoplespeak.org.uk/wp-content/uploads/2024/01/image001.jpg
END:VEVENT
END:VCALENDAR