BEGIN:VCALENDAR
VERSION:2.0
PRODID:-//The People Speak - ECPv4.6.11//NONSGML v1.0//EN
CALSCALE:GREGORIAN
METHOD:PUBLISH
X-WR-CALNAME:The People Speak
X-ORIGINAL-URL:https://thepeoplespeak.org.uk
X-WR-CALDESC:Events for The People Speak
BEGIN:VEVENT
DTSTART;TZID=UTC+0:20230223T180000
DTEND;TZID=UTC+0:20230223T200000
DTSTAMP:20260419T204549
CREATED:20230109T150044Z
LAST-MODIFIED:20230207T175351Z
UID:6385-1677175200-1677182400@thepeoplespeak.org.uk
SUMMARY:Aberfeldy Live! Talkaoke #29
DESCRIPTION:Welcome to Aberfeldy Live! Talkaoke – an interactive pop-up talkshow\, where you\, the participants\, set the agenda. Every  month we report live from the streets of Poplar and further afield via Zoom about all the matters local and global. \nHow does Talkaoke work?\nIt’s simple: the Talkaoke host sits in the middle of a round table and you\, the participants\, sit at small tables close by. Each table has a mic and you are invited to talk about anything they like. Each discussion is a journey from one unexpected subject to another: it can be topical\, funny\, deep\, surreal\, and everything in between. The conversation will be visualised live by a digital illustrator! It’s a drop in – so feel free to stay for as long or as little as you can. \nHow can I join?\nCome along to The Tommy Flowers Pub\, 50 Aberfeldy Street\, London\, E14 0NU or join online via Zoom by following this link. \nFree training opportunity\nIf you are interested in learning our facilitations techniques and have a go hosting a Talkaoke – drop Margot & Mikey a line on info@thepeoplespeak.org.uk to have a chat about it. \n  \nThe event is supported by Foundation For Future London. \n \n
URL:https://thepeoplespeak.org.uk/event/6385/
LOCATION:50 Aberfeldy Street\, London\, E14 0NU\, United Kingdom
CATEGORIES:Talkaoke
ATTACH;FMTTYPE=image/png:https://thepeoplespeak.org.uk/wp-content/uploads/2023/01/Artboard-1.png
END:VEVENT
END:VCALENDAR