BEGIN:VCALENDAR
VERSION:2.0
PRODID:-//The People Speak - ECPv4.6.11//NONSGML v1.0//EN
CALSCALE:GREGORIAN
METHOD:PUBLISH
X-WR-CALNAME:The People Speak
X-ORIGINAL-URL:https://thepeoplespeak.org.uk
X-WR-CALDESC:Events for The People Speak
BEGIN:VEVENT
DTSTART;VALUE=DATE:20190914
DTEND;VALUE=DATE:20190916
DTSTAMP:20260419T190303
CREATED:20190920T115503Z
LAST-MODIFIED:20190920T165343Z
UID:4668-1568419200-1568591999@thepeoplespeak.org.uk
SUMMARY:Talkaoke: Uni.Stadt.Fest 2019
DESCRIPTION:Talkaoke travelled to Bielefeld\, Germany for Uni.Stadt.Fest. The table landed in Alter Markt\, where we ran a warmup session on Sat 14th Sept 2019 before the main event on the Sunday. \nMain Session (15th Sept) Playlist \n \nWarmup Session (14th Sept) \n \n  \n  \n
URL:https://thepeoplespeak.org.uk/event/4668/
CATEGORIES:Past Events,Talkaoke
ATTACH;FMTTYPE=image/jpeg:https://thepeoplespeak.org.uk/wp-content/uploads/2019/09/title_image-upload.jpg
END:VEVENT
END:VCALENDAR